Workbook

Sheet Progression
B3: Time | C3: XP | E3: Level | F3: XP | H3: Level | I3: Skill | K3: Level | L3: Time | N3: Time | O3: Skill | R3: I wanted to create a progression curve that appears mainly in clicker or tycoon games. XP per Unit time curve is a smooth geometric curve. On the other hand, XP per level curve is drawing an exponential curve. As a result, the amount of experience gained by the player increases over time, but more and more time is required to reach a higher level due to the rapidly increasing amount of experience. This makes gradually decrease geometric curve for Skill per Unit Time that time efficiency decreases over and over. I think it is a curve of 'Easy to learn, Difficult to master' type.
B4: 0 | C4: 0 | E4: 0 | F4: 0 | H4: 0 | I4: 0 | K4: 0 | L4: 0 | N4: 0 | O4: =I4 -> 0
B5: 1 | C5: 20 | E5: 1 | F5: 100 | H5: 1 | I5: =I4+H5*6 -> 6 | K5: 1 | L5: {=INDEX(B:B,MATCH(F5,C:C,1)) + (F5 - INDEX(C:C,MATCH(F5,C:C,1))) / ( INDEX(C:C,MATCH(F5,C:C,1)+1) - INDEX(C:C,MATCH(F5,C:C,1)))} -> 1.7272727 | N5: =L5 -> 1.7272727 | O5: =I5 -> 6
B6: 2 | C6: =C5+(B6-1)*50+B6*30 -> 130 | E6: 2 | F6: =F5*2 -> 200 | H6: 2 | I6: =I5+H6*15 -> 36 | K6: 2 | L6: {=INDEX(B:B,MATCH(F6,C:C,1)) + (F6 - INDEX(C:C,MATCH(F6,C:C,1))) / ( INDEX(C:C,MATCH(F6,C:C,1)+1) - INDEX(C:C,MATCH(F6,C:C,1)))} -> 2.3684211 | N6: =L6 -> 2.3684211 | O6: =I6 -> 36
B7: 3 | C7: =C6+(B7-1)*50+B7*30 -> 320 | E7: 3 | F7: =F6*2 -> 400 | H7: 3 | I7: =I6+H7*15 -> 81 | K7: 3 | L7: {=INDEX(B:B,MATCH(F7,C:C,1)) + (F7 - INDEX(C:C,MATCH(F7,C:C,1))) / ( INDEX(C:C,MATCH(F7,C:C,1)+1) - INDEX(C:C,MATCH(F7,C:C,1)))} -> 3.2962963 | N7: =L7 -> 3.2962963 | O7: =I7 -> 81
B8: 4 | C8: =C7+(B8-1)*50+B8*30 -> 590 | E8: 4 | F8: =F7*2 -> 800 | H8: 4 | I8: =I7+H8*15 -> 141 | K8: 4 | L8: {=INDEX(B:B,MATCH(F8,C:C,1)) + (F8 - INDEX(C:C,MATCH(F8,C:C,1))) / ( INDEX(C:C,MATCH(F8,C:C,1)+1) - INDEX(C:C,MATCH(F8,C:C,1)))} -> 4.6 | N8: =L8 -> 4.6 | O8: =I8 -> 141
B9: 5 | C9: =C8+(B9-1)*50+B9*30 -> 940 | E9: 5 | F9: =F8*2 -> 1600 | H9: 5 | I9: =I8+H9*15 -> 216 | K9: 5 | L9: {=INDEX(B:B,MATCH(F9,C:C,1)) + (F9 - INDEX(C:C,MATCH(F9,C:C,1))) / ( INDEX(C:C,MATCH(F9,C:C,1)+1) - INDEX(C:C,MATCH(F9,C:C,1)))} -> 6.4509804 | N9: =L9 -> 6.4509804 | O9: =I9 -> 216
B10: 6 | C10: =C9+(B10-1)*50+B10*30 -> 1370 | E10: 6 | F10: =F9*2 -> 3200 | H10: 6 | I10: =I9+H10*15 -> 306 | K10: 6 | L10: {=INDEX(B:B,MATCH(F10,C:C,1)) + (F10 - INDEX(C:C,MATCH(F10,C:C,1))) / ( INDEX(C:C,MATCH(F10,C:C,1)+1) - INDEX(C:C,MATCH(F10,C:C,1)))} -> 9.08 | N10: =L10 -> 9.08 | O10: =I10 -> 306
B11: 7 | C11: =C10+(B11-1)*50+B11*30 -> 1880 | E11: 7 | F11: =F10*2 -> 6400 | H11: 7 | I11: =I10+H11*15 -> 411 | K11: 7 | L11: {=INDEX(B:B,MATCH(F11,C:C,1)) + (F11 - INDEX(C:C,MATCH(F11,C:C,1))) / ( INDEX(C:C,MATCH(F11,C:C,1)+1) - INDEX(C:C,MATCH(F11,C:C,1)))} -> 12.777778 | N11: =L11 -> 12.777778 | O11: =I11 -> 411
B12: 8 | C12: =C11+(B12-1)*50+B12*30 -> 2470 | E12: 8 | F12: =F11*2 -> 12800 | H12: 8 | I12: =I11+H12*15 -> 531 | K12: 8 | L12: {=INDEX(B:B,MATCH(F12,C:C,1)) + (F12 - INDEX(C:C,MATCH(F12,C:C,1))) / ( INDEX(C:C,MATCH(F12,C:C,1)+1) - INDEX(C:C,MATCH(F12,C:C,1)))} -> 18.020408 | N12: =L12 -> 18.020408 | O12: =I12 -> 531
B13: 9 | C13: =C12+(B13-1)*50+B13*30 -> 3140 | E13: 9 | F13: =F12*2 -> 25600 | H13: 9 | I13: =I12+H13*15 -> 666 | K13: 9 | L13: {=INDEX(B:B,MATCH(F13,C:C,1)) + (F13 - INDEX(C:C,MATCH(F13,C:C,1))) / ( INDEX(C:C,MATCH(F13,C:C,1)+1) - INDEX(C:C,MATCH(F13,C:C,1)))} -> 25.423645 | N13: =L13 -> 25.423645 | O13: =I13 -> 666
B14: 10 | C14: =C13+(B14-1)*50+B14*30 -> 3890 | E14: 10 | F14: =F13*2 -> 51200 | H14: 10 | I14: =I13+H14*15 -> 816 | K14: 10 | L14: {=INDEX(B:B,MATCH(F14,C:C,1)) + (F14 - INDEX(C:C,MATCH(F14,C:C,1))) / ( INDEX(C:C,MATCH(F14,C:C,1)+1) - INDEX(C:C,MATCH(F14,C:C,1)))} -> 35.904594 | N14: =L14 -> 35.904594 | O14: =I14 -> 816
B15: 11 | C15: =C14+(B15-1)*50+B15*30 -> 4720
B16: 12 | C16: =C15+(B16-1)*50+B16*30 -> 5630
B17: 13 | C17: =C16+(B17-1)*50+B17*30 -> 6620
B18: 14 | C18: =C17+(B18-1)*50+B18*30 -> 7690
B19: 15 | C19: =C18+(B19-1)*50+B19*30 -> 8840
B20: 16 | C20: =C19+(B20-1)*50+B20*30 -> 10070
B21: 17 | C21: =C20+(B21-1)*50+B21*30 -> 11380
B22: 18 | C22: =C21+(B22-1)*50+B22*30 -> 12770
B23: 19 | C23: =C22+(B23-1)*50+B23*30 -> 14240
B24: 20 | C24: =C23+(B24-1)*50+B24*30 -> 15790
B25: 21 | C25: =C24+(B25-1)*50+B25*30 -> 17420
B26: 22 | C26: =C25+(B26-1)*50+B26*30 -> 19130
... B54: 50 | C54: =C53+(B54-1)*50+B54*30 -> 99490

Sheet Rewards
A1: Random customer | H1: Farmer | O1: Asian market owner | V1: Fisherman | AC1: Wholesale merchant
A2: Name | B2: Type | C2: Chance | D2: Amount | E2: Value Per Item | F2: Total Value | H2: Name | I2: Type | J2: Chance | K2: Amount | L2: Value Per Item | M2: Total Value | O2: Name | P2: Type | Q2: Chance | R2: Amount | S2: Value Per Item | T2: Total Value | V2: Name | W2: Type | X2: Chance | Y2: Amount | Z2: Value Per Item | AA2: Total Value | AC2: Name | AD2: Type | AE2: Chance | AF2: Amount | AG2: Value Per Item | AH2: Total Value
A3: Money | B3: Currency | C3: 0.5 | D3: 10 | E3: 1 | F3: =PRODUCT(D3:E3) -> 10 | H3: Money | I3: Currency | J3: 0.3 | K3: 20 | L3: 1 | M3: =PRODUCT(K3:L3) -> 20 | O3: Money | P3: Currency | Q3: 0.4 | R3: 30 | S3: 1 | T3: =PRODUCT(R3:S3) -> 30 | V3: Money | W3: Currency | X3: 0.3 | Y3: 20 | Z3: 1 | AA3: =PRODUCT(Y3:Z3) -> 20 | AC3: Money | AD3: Currency | AE3: 0.55 | AF3: 150 | AG3: 1 | AH3: =PRODUCT(AF3:AG3) -> 150
A4: ='Refined Materials'!G2 -> Tuna fillet | B4: Recipe | C4: 0.1 | D4: 1 | E4: =HLOOKUP(A4,'Refined Materials'!A2:L4,3,FALSE) -> 20 | F4: =PRODUCT(D4:E4) -> 20 | H4: ='Raw Materials'!B2 -> Grain | I4: Material | J4: 0.2 | K4: 10 | L4: =HLOOKUP(H4,'Raw Materials'!A2:J7,4,FALSE) -> 1 | M4: =PRODUCT(K4:L4) -> 10 | O4: ='Raw Materials'!C2 -> Seaweed | P4: Material | Q4: 0.2 | R4: 30 | S4: =HLOOKUP(O4,'Raw Materials'!A2:J7,4,FALSE) -> 1 | T4: =PRODUCT(R4:S4) -> 30 | V4: ='Raw Materials'!F2 -> Tuna | W4: Material | X4: 0.18 | Y4: 2 | Z4: =HLOOKUP(V4,'Raw Materials'!A2:J7,4,FALSE) -> 10 | AA4: =PRODUCT(Y4:Z4) -> 20 | AC4: =Parts!I2 -> Diced tuna | AD4: Material | AE4: 0.03 | AF4: 3 | AG4: =HLOOKUP(AC4,Parts!B2:T5,4,FALSE) -> 50 | AH4: =PRODUCT(AF4:AG4) -> 150
A5: =Parts!K2 -> Tuna sashimi | B5: Recipe | C5: 0.1 | D5: 1 | E5: =HLOOKUP(A5,Parts!B2:T7,3,FALSE) -> 20 | F5: =PRODUCT(D5:E5) -> 20 | H5: ='Raw Materials'!D2 -> Egg | I5: Material | J5: 0.2 | K5: 10 | L5: =HLOOKUP(H5,'Raw Materials'!A2:J7,4,FALSE) -> 1 | M5: =PRODUCT(K5:L5) -> 10 | O5: ='Refined Materials'!D2 -> Dried seaweed | P5: Material | Q5: 0.2 | R5: 5 | S5: =HLOOKUP(O5,'Refined Materials'!A2:L5,4,FALSE) -> 6 | T5: =PRODUCT(R5:S5) -> 30 | V5: ='Raw Materials'!G2 -> Salmon | W5: Material | X5: 0.2 | Y5: 2 | Z5: =HLOOKUP(V5,'Raw Materials'!A2:J7,4,FALSE) -> 8 | AA5: =PRODUCT(Y5:Z5) -> 16 | AC5: =Parts!J2 -> Long cut tuna | AD5: Material | AE5: 0.03 | AF5: 3 | AG5: =HLOOKUP(AC5,Parts!B2:T5,4,FALSE) -> 50 | AH5: =PRODUCT(AF5:AG5) -> 150
A6: =Parts!N2 -> Salmon sashimi | B6: Recipe | C6: 0.1 | D6: 1 | E6: =HLOOKUP(A6,Parts!B2:T7,3,FALSE) -> 20 | F6: =PRODUCT(D6:E6) -> 20 | H6: ='Raw Materials'!E2 -> Cucumber | I6: Material | J6: 0.2 | K6: 10 | L6: =HLOOKUP(H6,'Raw Materials'!A2:J7,4,FALSE) -> 1 | M6: =PRODUCT(K6:L6) -> 10 | O6: =Parts!E2 -> Seasonned seaweed | P6: Material | Q6: 0.05 | R6: 5 | S6: =HLOOKUP(O6,Parts!B2:T5,4,FALSE) -> 15 | T6: =PRODUCT(R6:S6) -> 75 | V6: ='Raw Materials'!H2 -> Flatfish | W6: Material | X6: 0.2 | Y6: 5 | Z6: =HLOOKUP(V6,'Raw Materials'!A2:J7,4,FALSE) -> 4 | AA6: =PRODUCT(Y6:Z6) -> 20 | AC6: =Parts!K2 -> Tuna sashimi | AD6: Material | AE6: 0.03 | AF6: 2 | AG6: =HLOOKUP(AC6,Parts!B2:T5,4,FALSE) -> 60 | AH6: =PRODUCT(AF6:AG6) -> 120
A7: =Parts!P2 -> Flatfish sashimi | B7: Recipe | C7: 0.1 | D7: 1 | E7: =HLOOKUP(A7,Parts!B2:T7,3,FALSE) -> 20 | F7: =PRODUCT(D7:E7) -> 20 | H7: ='Refined Materials'!B2 -> Raw rice | I7: Material | J7: 0.15 | K7: 10 | L7: =HLOOKUP(H7,'Refined Materials'!A2:L5,4,FALSE) -> 2 | M7: =PRODUCT(K7:L7) -> 20 | O7: =Parts!C2 -> Fry Batter | P7: Material | Q7: 0.05 | R7: 4 | S7: =HLOOKUP(O7,Parts!B2:T5,4,FALSE) -> 27 | T7: =PRODUCT(R7:S7) -> 108 | V7: ='Raw Materials'!I2 -> Eel | W7: Material | X7: 0.18 | Y7: 4 | Z7: =HLOOKUP(V7,'Raw Materials'!A2:J7,4,FALSE) -> 5 | AA7: =PRODUCT(Y7:Z7) -> 20 | AC7: =Parts!L2 -> Diced salmon | AD7: Material | AE7: 0.03 | AF7: 2 | AG7: =HLOOKUP(AC7,Parts!B2:T5,4,FALSE) -> 74 | AH7: =PRODUCT(AF7:AG7) -> 148
A8: =Parts!Q2 -> Engawa (Flatfish fin) | B8: Recipe | C8: 0.08 | D8: 1 | E8: =HLOOKUP(A8,Parts!B2:T7,3,FALSE) -> 30 | F8: =PRODUCT(D8:E8) -> 30 | H8: ='Refined Materials'!C2 -> Flour | I8: Material | J8: 0.15 | K8: 10 | L8: =HLOOKUP(H8,'Refined Materials'!A2:L5,4,FALSE) -> 2 | M8: =PRODUCT(K8:L8) -> 20 | O8: =Parts!D2 -> Tempura Batter | P8: Material | Q8: 0.05 | R8: 4 | S8: =HLOOKUP(O8,Parts!B2:T5,4,FALSE) -> 24 | T8: =PRODUCT(R8:S8) -> 96 | V8: ='Raw Materials'!J2 -> Shrimp | W8: Material | X8: 0.2 | Y8: 10 | Z8: =HLOOKUP(V8,'Raw Materials'!A2:J7,4,FALSE) -> 2 | AA8: =PRODUCT(Y8:Z8) -> 20 | AC8: =Parts!M2 -> Long cut salmon | AD8: Material | AE8: 0.03 | AF8: 2 | AG8: =HLOOKUP(AC8,Parts!B2:T5,4,FALSE) -> 74 | AH8: =PRODUCT(AF8:AG8) -> 148
A9: =Parts!S2 -> Butterfly Shrimp | B9: Recipe | C9: 0.1 | D9: 1 | E9: =HLOOKUP(A9,Parts!B2:T7,3,FALSE) -> 20 | F9: =PRODUCT(D9:E9) -> 20 | H9: ='Refined Materials'!E2 -> Liquid egg | I9: Material | J9: 0.15 | K9: 10 | L9: =HLOOKUP(H9,'Refined Materials'!A2:L5,4,FALSE) -> 6 | M9: =PRODUCT(K9:L9) -> 60 | O9: =Parts!E2 -> Seasonned seaweed | P9: Recipe | Q9: 0.1 | R9: 6 | S9: =HLOOKUP(O9,Parts!B2:T5,3,FALSE) -> 5 | T9: =PRODUCT(R9:S9) -> 30 | V9: ='Refined Materials'!G2 -> Tuna fillet | W9: Material | X9: 0.07 | Y9: 4 | Z9: =HLOOKUP(V9,'Refined Materials'!A2:L5,4,FALSE) -> 40 | AA9: =PRODUCT(Y9:Z9) -> 160 | AC9: =Parts!N2 -> Salmon sashimi | AD9: Material | AE9: 0.03 | AF9: 2 | AG9: =HLOOKUP(AC9,Parts!B2:T5,4,FALSE) -> 84 | AH9: =PRODUCT(AF9:AG9) -> 168
A10: =Parts!T2 -> Long Shrimp | B10: Recipe | C10: 0.08 | D10: 1 | E10: =HLOOKUP(A10,Parts!B2:T7,3,FALSE) -> 30 | F10: =PRODUCT(D10:E10) -> 30 | H10: ='Refined Materials'!F2 -> Wahed cucumber | I10: Material | J10: 0.15 | K10: 10 | L10: =HLOOKUP(H10,'Refined Materials'!A2:L5,4,FALSE) -> 2 | M10: =PRODUCT(K10:L10) -> 20 | O10: =Parts!C2 -> Fry Batter | P10: Recipe | Q10: 0.1 | R10: 4 | S10: =HLOOKUP(O10,Parts!B2:T5,3,FALSE) -> 10 | T10: =PRODUCT(R10:S10) -> 40 | V10: ='Refined Materials'!H2 -> Salmon fillet | W10: Material | X10: 0.07 | Y10: 4 | Z10: =HLOOKUP(V10,'Refined Materials'!A2:L5,4,FALSE) -> 42 | AA10: =PRODUCT(Y10:Z10) -> 168 | AC10: =Parts!O2 -> Washed salmon roe | AD10: Material | AE10: 0.03 | AF10: 2 | AG10: =HLOOKUP(AC10,Parts!B2:T5,4,FALSE) -> 90 | AH10: =PRODUCT(AF10:AG10) -> 180
C11: =SUM(C3:C10) -> 1.16 | F11: =SUMPRODUCT(C3:C10,F3:F10) -> 19.8 | J11: =SUM(J3:J10) -> 1.5 | M11: =SUMPRODUCT(J3:J10,M3:M10) -> 30 | O11: =Parts!D2 -> Tempura Batter | P11: Recipe | Q11: 0.1 | R11: 3 | S11: =HLOOKUP(O11,Parts!B2:T5,3,FALSE) -> 15 | T11: =PRODUCT(R11:S11) -> 45 | V11: ='Refined Materials'!I2 -> Salmon roe sac | W11: Material | X11: 0.04 | Y11: 5 | Z11: =HLOOKUP(V11,'Refined Materials'!A2:L5,4,FALSE) -> 55 | AA11: =PRODUCT(Y11:Z11) -> 275 | AC11: =Parts!P2 -> Flatfish sashimi | AD11: Material | AE11: 0.06 | AF11: 2 | AG11: =HLOOKUP(AC11,Parts!B2:T5,4,FALSE) -> 100 | AH11: =PRODUCT(AF11:AG11) -> 200
M12: =M11/F11 -> 1.5151515 | Q12: =SUM(Q3:Q11) -> 1.25 | T12: =SUMPRODUCT(Q3:Q11,T3:T11) -> 49.45 | V12: ='Refined Materials'!J2 -> Flatfish fillet | W12: Material | X12: 0.07 | Y12: 4 | Z12: =HLOOKUP(V12,'Refined Materials'!A2:L5,4,FALSE) -> 45 | AA12: =PRODUCT(Y12:Z12) -> 180 | AC12: =Parts!Q2 -> Engawa (Flatfish fin) | AD12: Material | AE12: 0.04 | AF12: 1 | AG12: =HLOOKUP(AC12,Parts!B2:T5,4,FALSE) -> 150 | AH12: =PRODUCT(AF12:AG12) -> 150
T13: =T12/M11 -> 1.6483333 | V13: ='Refined Materials'!K2 -> Eel fillet | W13: Material | X13: 0.04 | Y13: 5 | Z13: =HLOOKUP(V13,'Refined Materials'!A2:L5,4,FALSE) -> 55 | AA13: =PRODUCT(Y13:Z13) -> 275 | AC13: =Parts!R2 -> Cooked eel | AD13: Material | AE13: 0.03 | AF13: 1 | AG13: =HLOOKUP(AC13,Parts!B2:T5,4,FALSE) -> 140 | AH13: =PRODUCT(AF13:AG13) -> 140
V14: ='Refined Materials'!L2 -> Peeled Shrimp | W14: Material | X14: 0.04 | Y14: 5 | Z14: =HLOOKUP(V13,'Refined Materials'!A2:L5,4,FALSE) -> 55 | AA14: =PRODUCT(Y14:Z14) -> 275 | AC14: =Parts!S2 -> Butterfly Shrimp | AD14: Material | AE14: 0.08 | AF14: 3 | AG14: =HLOOKUP(AC14,Parts!B2:T5,4,FALSE) -> 60 | AH14: =PRODUCT(AF14:AG14) -> 180
X15: =SUM(X3:X14) -> 1.59 | AA15: =SUMPRODUCT(X3:X14,AA3:AA14) -> 92.96 | AC15: =Parts!T2 -> Long Shrimp | AD15: Material | AE15: 0.08 | AF15: 2 | AG15: =HLOOKUP(AC15,Parts!B2:T5,4,FALSE) -> 70 | AH15: =PRODUCT(AF15:AG15) -> 140
AA16: =AA15/T12 -> 1.8798787 | AE16: =SUM(AE3:AE15) -> 1.05 | AH16: =SUMPRODUCT(AE3:AE15,AH3:AH15) -> 162.22
AH17: =AH16/AA15 -> 1.7450516
A19: Random customers who come in pay mostly in cash. However, with a certain probability, they provide recipes for preparing fish. Recipes were acquired with slightly higher rewards than cash. | H19: Farmers tend to prefer barter a bit more than paying in cash. They provide agricultural and livestock products such as grain, eggs, and cucumbers, sometimes they provide refined materials instead of raw materials. | O19: Asian Market owner offers items related to seaweed and batter. The probability of getting it as a part is low, but the reward for it is very high. The recipes they provide are also related to seaweed and batter, and have a slightly higher value than cash when used. | V19: Similar to farmers, fishermen prioritize barter. They provide fish-related items and pay with refined materials with a very low probability, which gives a very large benefit. To emphasize, the basic gains are not that great compared to Asian market owners. However, with a slim probability, you can receive a very large reward compared to the basic reward. | AC19: Wholesaler merchants do not provide raw or refined materials. However, it has a chance of directly providing high-value parts. They strongly prefer to pay cash, and acquiring materials unconditionally does not guarantee a higher value reward than a cash.

Sheet Raw Materials
B1: RAW MATERIALS
B2: Grain | C2: Seaweed | D2: Egg | E2: Cucumber | F2: Tuna | G2: Salmon | H2: Flatfish | I2: Eel | J2: Shrimp
A3: Base Cost | B3: 1 | C3: 1 | D3: 1 | E3: 1 | F3: 10 | G3: 8 | H3: 4 | I3: 5 | J3: 2
A4: Recipe Cost | B4: 0 | C4: 0 | D4: 0 | E4: 0 | F4: 0 | G4: 0 | H4: 0 | I4: 0 | J4: 0
A5: Cost Per Unit (1) | B5: =B$4/1+B$3 -> 1 | C5: =C$4/1+C$3 -> 1 | D5: =D$4/1+D$3 -> 1 | E5: =E$4/1+E$3 -> 1 | F5: =F$4/1+F$3 -> 10 | G5: =G$4/1+G$3 -> 8 | H5: =H$4/1+H$3 -> 4 | I5: =I$4/1+I$3 -> 5 | J5: =J$4/1+J$3 -> 2
A6: Cost Per Unit (10) | B6: =B$4/10+B$3 -> 1 | C6: =C$4/10+C$3 -> 1 | D6: =D$4/10+D$3 -> 1 | E6: =E$4/10+E$3 -> 1 | F6: =F$4/10+F$3 -> 10 | G6: =G$4/10+G$3 -> 8 | H6: =H$4/10+H$3 -> 4 | I6: =I$4/10+I$3 -> 5 | J6: =J$4/10+J$3 -> 2
A7: Cost Per Unit (100) | B7: =B$4/100+B$3 -> 1 | C7: =C$4/100+C$3 -> 1 | D7: =D$4/100+D$3 -> 1 | E7: =E$4/100+E$3 -> 1 | F7: =F$4/100+F$3 -> 10 | G7: =G$4/100+G$3 -> 8 | H7: =H$4/100+H$3 -> 4 | I7: =I$4/100+I$3 -> 5 | J7: =J$4/100+J$3 -> 2
A9: REFINED MATERIALS
A10: ='Refined Materials'!B2 -> Raw rice | B10: 1
A11: ='Refined Materials'!C2 -> Flour | B11: 1
A12: ='Refined Materials'!D2 -> Dried seaweed | C12: 5
A13: ='Refined Materials'!E2 -> Liquid egg | D13: 5
A14: ='Refined Materials'!F2 -> Wahed cucumber | E14: 1
A15: ='Refined Materials'!G2 -> Tuna fillet | F15: 2
A16: ='Refined Materials'!H2 -> Salmon fillet | G16: 4
A17: ='Refined Materials'!I2 -> Salmon roe sac | G17: 5
A18: ='Refined Materials'!J2 -> Flatfish fillet | H18: 10
A19: ='Refined Materials'!K2 -> Eel fillet | I19: 10
A20: ='Refined Materials'!L2 -> Peeled Shrimp | J20: 10

Sheet Refined Materials
B1: REFINED MATERIALS
B2: Raw rice | C2: Flour | D2: Dried seaweed | E2: Liquid egg | F2: Wahed cucumber | G2: Tuna fillet | H2: Salmon fillet | I2: Salmon roe sac | J2: Flatfish fillet | K2: Eel fillet | L2: Peeled Shrimp
A3: Base Cost | B3: =SUMPRODUCT('Raw Materials'!3:3,'Raw Materials'!10:10) -> 1 | C3: =SUMPRODUCT('Raw Materials'!3:3,'Raw Materials'!11:11) -> 1 | D3: =SUMPRODUCT('Raw Materials'!3:3,'Raw Materials'!12:12) -> 5 | E3: =SUMPRODUCT('Raw Materials'!3:3,'Raw Materials'!13:13) -> 5 | F3: =SUMPRODUCT('Raw Materials'!3:3,'Raw Materials'!14:14) -> 1 | G3: =SUMPRODUCT('Raw Materials'!3:3,'Raw Materials'!15:15) -> 20 | H3: =SUMPRODUCT('Raw Materials'!3:3,'Raw Materials'!16:16) -> 32 | I3: =SUMPRODUCT('Raw Materials'!3:3,'Raw Materials'!17:17) -> 40 | J3: =SUMPRODUCT('Raw Materials'!3:3,'Raw Materials'!18:18) -> 40 | K3: =SUMPRODUCT('Raw Materials'!3:3,'Raw Materials'!19:19) -> 50 | L3: =SUMPRODUCT('Raw Materials'!3:3,'Raw Materials'!20:20) -> 20
A4: Recipe Cost | B4: 1 | C4: 1 | D4: 1 | E4: 1 | F4: 1 | G4: 20 | H4: 10 | I4: 15 | J4: 5 | K4: 5 | L4: 6
A5: Cost Per Unit (1) | B5: =B$4/1+B$3 -> 2 | C5: =C$4/1+C$3 -> 2 | D5: =D$4/1+D$3 -> 6 | E5: =E$4/1+E$3 -> 6 | F5: =F$4/1+F$3 -> 2 | G5: =G$4/1+G$3 -> 40 | H5: =H$4/1+H$3 -> 42 | I5: =I$4/1+I$3 -> 55 | ... L5: =L$4/1+L$3 -> 26
A6: Cost Per Unit (10) | B6: =B$4/10+B$3 -> 1.1 | C6: =C$4/10+C$3 -> 1.1 | D6: =D$4/10+D$3 -> 5.1 | E6: =E$4/10+E$3 -> 5.1 | F6: =F$4/10+F$3 -> 1.1 | G6: =G$4/10+G$3 -> 22 | H6: =H$4/10+H$3 -> 33 | I6: =I$4/10+I$3 -> 41.5 | ... L6: =L$4/10+L$3 -> 20.6
A7: Cost Per Unit (100) | B7: =B$4/100+B$3 -> 1.01 | C7: =C$4/100+C$3 -> 1.01 | D7: =D$4/100+D$3 -> 5.01 | E7: =E$4/100+E$3 -> 5.01 | F7: =F$4/100+F$3 -> 1.01 | G7: =G$4/100+G$3 -> 20.2 | H7: =H$4/100+H$3 -> 32.1 | I7: =I$4/100+I$3 -> 40.15 | ... L7: =L$4/100+L$3 -> 20.06
A9: PARTS
A10: =Parts!B2 -> Cooked rice | B10: 5
A11: =Parts!C2 -> Fry Batter | C11: 2 | E11: 3
A12: =Parts!D2 -> Tempura Batter | C12: 4 | E12: 1
A13: =Parts!E2 -> Seasonned seaweed | D13: 2
A14: =Parts!F2 -> Tamagoyaki (Cooked egg) | E14: 2
A15: =Parts!G2 -> Thin cut cucumber | F15: 2
A16: =Parts!H2 -> Long cut cucumber | F16: 2
A17: =Parts!I2 -> Diced tuna | G17: 2
A18: =Parts!J2 -> Long cut tuna | G18: 2
A19: =Parts!K2 -> Tuna sashimi | G19: 2
A20: =Parts!L2 -> Diced salmon | H20: 2
A21: =Parts!M2 -> Long cut salmon | H21: 2
A22: =Parts!N2 -> Salmon sashimi | H22: 2
A23: =Parts!O2 -> Washed salmon roe | I23: 2
A24: =Parts!P2 -> Flatfish sashimi | J24: 2
A25: =Parts!Q2 -> Engawa (Flatfish fin) | J25: 3
A26: =Parts!R2 -> Cooked eel | K26: 2
A27: =Parts!S2 -> Butterfly Shrimp | L27: 2
A28: =Parts!T2 -> Long Shrimp | L28: 2

Sheet Parts
B1: PARTS
B2: Cooked rice | C2: Fry Batter | D2: Tempura Batter | E2: Seasonned seaweed | F2: Tamagoyaki (Cooked egg) | G2: Thin cut cucumber | H2: Long cut cucumber | I2: Diced tuna | J2: Long cut tuna | K2: Tuna sashimi | L2: Diced salmon | M2: Long cut salmon | N2: Salmon sashimi | O2: Washed salmon roe | P2: Flatfish sashimi | Q2: Engawa (Flatfish fin) | R2: Cooked eel | S2: Butterfly Shrimp | T2: Long Shrimp
A3: Base Cost | B3: =SUMPRODUCT('Refined Materials'!3:3,'Refined Materials'!10:10) -> 5 | C3: =SUMPRODUCT('Refined Materials'!3:3,'Refined Materials'!11:11) -> 17 | D3: =SUMPRODUCT('Refined Materials'!3:3,'Refined Materials'!12:12) -> 9 | E3: =SUMPRODUCT('Refined Materials'!3:3,'Refined Materials'!13:13) -> 10 | F3: =SUMPRODUCT('Refined Materials'!3:3,'Refined Materials'!14:14) -> 10 | G3: =SUMPRODUCT('Refined Materials'!3:3,'Refined Materials'!15:15) -> 2 | H3: =SUMPRODUCT('Refined Materials'!3:3,'Refined Materials'!16:16) -> 2 | I3: =SUMPRODUCT('Refined Materials'!3:3,'Refined Materials'!17:17) -> 40 | J3: =SUMPRODUCT('Refined Materials'!3:3,'Refined Materials'!18:18) -> 40 | K3: =SUMPRODUCT('Refined Materials'!3:3,'Refined Materials'!19:19) -> 40 | L3: =SUMPRODUCT('Refined Materials'!3:3,'Refined Materials'!20:20) -> 64 | M3: =SUMPRODUCT('Refined Materials'!3:3,'Refined Materials'!21:21) -> 64 | N3: =SUMPRODUCT('Refined Materials'!3:3,'Refined Materials'!22:22) -> 64 | O3: =SUMPRODUCT('Refined Materials'!3:3,'Refined Materials'!23:23) -> 80 | P3: =SUMPRODUCT('Refined Materials'!3:3,'Refined Materials'!24:24) -> 80 | Q3: =SUMPRODUCT('Refined Materials'!3:3,'Refined Materials'!25:25) -> 120 | R3: =SUMPRODUCT('Refined Materials'!3:3,'Refined Materials'!26:26) -> 100 | S3: =SUMPRODUCT('Refined Materials'!3:3,'Refined Materials'!27:27) -> 40 | T3: =SUMPRODUCT('Refined Materials'!3:3,'Refined Materials'!27:27) -> 40
A4: Recipe Cost | B4: 10 | C4: 10 | D4: 15 | E4: 5 | F4: 15 | G4: 5 | H4: 5 | I4: 10 | J4: 10 | K4: 20 | L4: 10 | M4: 10 | N4: 20 | O4: 10 | P4: 20 | Q4: 30 | R4: 40 | S4: 20 | T4: 30
A5: Cost Per Unit (1) | B5: =B$4/1+B$3 -> 15 | C5: =C$4/1+C$3 -> 27 | D5: =D$4/1+D$3 -> 24 | E5: =E$4/1+E$3 -> 15 | F5: =F$4/1+F$3 -> 25 | G5: =G$4/1+G$3 -> 7 | H5: =H$4/1+H$3 -> 7 | I5: =I$4/1+I$3 -> 50 | ... T5: =T$4/1+T$3 -> 70
A6: Cost Per Unit (10) | B6: =B$4/10+B$3 -> 6 | C6: =C$4/10+C$3 -> 18 | D6: =D$4/10+D$3 -> 10.5 | E6: =E$4/10+E$3 -> 10.5 | F6: =F$4/10+F$3 -> 11.5 | G6: =G$4/10+G$3 -> 2.5 | H6: =H$4/10+H$3 -> 2.5 | I6: =I$4/10+I$3 -> 41 | ... T6: =T$4/10+T$3 -> 43
A7: Cost Per Unit (100) | B7: =B$4/100+B$3 -> 5.1 | C7: =C$4/100+C$3 -> 17.1 | D7: =D$4/100+D$3 -> 9.15 | E7: =E$4/100+E$3 -> 10.05 | F7: =F$4/100+F$3 -> 10.15 | G7: =G$4/100+G$3 -> 2.05 | H7: =H$4/100+H$3 -> 2.05 | I7: =I$4/100+I$3 -> 40.1 | ... T7: =T$4/100+T$3 -> 40.3
A9: PRODUCTS
A10: =Products!B2 -> Tamago(egg) sushi | B10: 10 | E10: 1 | F10: 8
A11: =Products!C2 -> Tuna nigiri | B11: 10 | K11: 8
A12: =Products!D2 -> Salmon nigiri | B12: 10 | N12: 8
A13: =Products!E2 -> Flatfish nigiri | B13: 10 | P13: 8
A14: =Products!F2 -> Engawa (flatfish fin) nigiri | B14: 10 | Q14: 8
A15: =Products!G2 -> Shrimp nigiri | B15: 10 | S15: 8
A16: =Products!H2 -> Eel nigiri | B16: 10 | E16: 1 | R16: 8
A17: =Products!I2 -> Tiger roll | B17: 15 | H17: 5 | J17: 2 | M17: 2 | S17: 4 | T17: 2
A18: =Products!J2 -> Tuna roll | B18: 15 | H18: 5 | J18: 10
A19: =Products!K2 -> Salmon roll | B19: 15 | H19: 5 | M19: 10
A20: =Products!L2 -> Eel roll | B20: 15 | H20: 5 | R20: 10
A21: =Products!M2 -> Kappa maki (Cucumber maki) | B21: 10 | E21: 10 | H21: 20
A22: =Products!N2 -> Tuna maki | B22: 10 | E22: 10 | H22: 10 | J22: 10
A23: =Products!O2 -> Salmon maki | B23: 10 | E23: 10 | H23: 10 | M23: 10
A24: =Products!P2 -> Ikura maki (Salmon roe maki) | B24: 10 | E24: 10 | H24: 10 | O24: 10
A25: =Products!Q2 -> Hutomaki (All the way in roll) | B25: 10 | E25: 20 | F25: 10 | H25: 10 | J25: 10 | M25: 10 | R25: 5
A26: =Products!R2 -> Ahi poke | G26: 10 | I26: 10 | L26: 10
A27: =Products!S2 -> Salmon poke | G27: 10 | L27: 10
A28: =Products!T2 -> Maguro don (Tuna bowl) | B28: 25 | I28: 25
A29: =Products!U2 -> Sake don (Salmon bowl) | B29: 25 | L29: 25 | O29: 5
A30: =Products!V2 -> Unagi don (Eel bowl) | B30: 25 | R30: 20
A31: =Products!W2 -> Ebi fry (Shrimp fry) | C31: 10 | T31: 15
A32: =Products!X2 -> Ebi tempura (Shrimp fry) | D32: 10 | T32: 15
A33: =Products!Y2 -> Unagi tempura (Eel fry) | D33: 10 | R33: 15
A34: =Products!Z2 -> Tamago tempura (Egg fry) | D34: 10 | F34: 15
A35: =Products!AA2 -> Tendon (Fries bowl) | B35: 25 | D35: 10 | F35: 5 | R35: 5 | T35: 5

Sheet Products
B1: PRODUCTS
B2: Tamago(egg) sushi | C2: Tuna nigiri | D2: Salmon nigiri | E2: Flatfish nigiri | F2: Engawa (flatfish fin) nigiri | G2: Shrimp nigiri | H2: Eel nigiri | I2: Tiger roll | J2: Tuna roll | K2: Salmon roll | L2: Eel roll | M2: Kappa maki (Cucumber maki) | N2: Tuna maki | O2: Salmon maki | P2: Ikura maki (Salmon roe maki) | Q2: Hutomaki (All the way in roll) | R2: Ahi poke | S2: Salmon poke | T2: Maguro don (Tuna bowl) | U2: Sake don (Salmon bowl) | V2: Unagi don (Eel bowl) | W2: Ebi fry (Shrimp fry) | X2: Ebi tempura (Shrimp fry) | Y2: Unagi tempura (Eel fry) | Z2: Tamago tempura (Egg fry) | AA2: Tendon (Fries bowl)
A3: Base Cost | B3: =SUMPRODUCT(Parts!3:3,Parts!10:10) -> 140 | C3: =SUMPRODUCT(Parts!3:3,Parts!11:11) -> 370 | D3: =SUMPRODUCT(Parts!3:3,Parts!12:12) -> 562 | E3: =SUMPRODUCT(Parts!3:3,Parts!13:13) -> 690 | F3: =SUMPRODUCT(Parts!3:3,Parts!14:14) -> 1010 | G3: =SUMPRODUCT(Parts!3:3,Parts!15:15) -> 370 | H3: =SUMPRODUCT(Parts!3:3,Parts!16:16) -> 860 | I3: =SUMPRODUCT(Parts!3:3,Parts!17:17) -> 533 | J3: =SUMPRODUCT(Parts!3:3,Parts!18:18) -> 485 | K3: =SUMPRODUCT(Parts!3:3,Parts!19:19) -> 725 | L3: =SUMPRODUCT(Parts!3:3,Parts!20:20) -> 1085 | M3: =SUMPRODUCT(Parts!3:3,Parts!21:21) -> 190 | N3: =SUMPRODUCT(Parts!3:3,Parts!22:22) -> 570 | O3: =SUMPRODUCT(Parts!3:3,Parts!23:23) -> 810 | P3: =SUMPRODUCT(Parts!3:3,Parts!24:24) -> 970 | Q3: =SUMPRODUCT(Parts!3:3,Parts!25:25) -> 1910 | R3: =SUMPRODUCT(Parts!3:3,Parts!26:26) -> 1060 | S3: =SUMPRODUCT(Parts!3:3,Parts!27:27) -> 660 | T3: =SUMPRODUCT(Parts!3:3,Parts!28:28) -> 1125 | U3: =SUMPRODUCT(Parts!3:3,Parts!29:29) -> 2125 | V3: =SUMPRODUCT(Parts!3:3,Parts!30:30) -> 2125 | W3: =SUMPRODUCT(Parts!3:3,Parts!31:31) -> 770 | X3: =SUMPRODUCT(Parts!3:3,Parts!32:32) -> 690 | Y3: =SUMPRODUCT(Parts!3:3,Parts!33:33) -> 1590 | Z3: =SUMPRODUCT(Parts!3:3,Parts!34:34) -> 240 | AA3: =SUMPRODUCT(Parts!3:3,Parts!35:35) -> 965
A4: Recipe Cost | B4: 150 | C4: 200 | D4: 200 | E4: 200 | F4: 220 | G4: 250 | H4: 250 | I4: 80 | J4: 80 | K4: 80 | L4: 80 | M4: 60 | N4: 60 | O4: 60 | P4: 70 | Q4: 150 | R4: 30 | S4: 30 | T4: 50 | U4: 50 | V4: 50 | W4: 80 | X4: 100 | Y4: 130 | Z4: 150 | AA4: 180
A5: Cost Per Unit (1) | B5: =B$4/1+B$3 -> 290 | C5: =C$4/1+C$3 -> 570 | D5: =D$4/1+D$3 -> 762 | E5: =E$4/1+E$3 -> 890 | F5: =F$4/1+F$3 -> 1230 | G5: =G$4/1+G$3 -> 620 | H5: =H$4/1+H$3 -> 1110 | I5: =I$4/1+I$3 -> 613 | ... AA5: =AA$4/1+AA$3 -> 1145
A6: Cost Per Unit (10) | B6: =B$4/10+B$3 -> 155 | C6: =C$4/10+C$3 -> 390 | D6: =D$4/10+D$3 -> 582 | E6: =E$4/10+E$3 -> 710 | F6: =F$4/10+F$3 -> 1032 | G6: =G$4/10+G$3 -> 395 | H6: =H$4/10+H$3 -> 885 | I6: =I$4/10+I$3 -> 541 | ... AA6: =AA$4/10+AA$3 -> 983
A7: Cost Per Unit (100) | B7: =B$4/100+B$3 -> 141.5 | C7: =C$4/100+C$3 -> 372 | D7: =D$4/100+D$3 -> 564 | E7: =E$4/100+E$3 -> 692 | F7: =F$4/100+F$3 -> 1012.2 | G7: =G$4/100+G$3 -> 372.5 | H7: =H$4/100+H$3 -> 862.5 | I7: =I$4/100+I$3 -> 533.8 | ... AA7: =AA$4/100+AA$3 -> 966.8

Sheet Data
A2: REFINED MATERIALS
B3: ='Raw Materials'!B2 -> Grain | C3: ='Raw Materials'!C2 -> Seaweed | D3: ='Raw Materials'!D2 -> Egg | E3: ='Raw Materials'!E2 -> Cucumber | F3: ='Raw Materials'!F2 -> Tuna | G3: ='Raw Materials'!G2 -> Salmon | H3: ='Raw Materials'!H2 -> Flatfish | I3: ='Raw Materials'!I2 -> Eel | J3: ='Raw Materials'!J2 -> Shrimp
A4: ='Refined Materials'!B2 -> Raw rice | B4: 1
A5: ='Refined Materials'!C2 -> Flour | B5: 1
A6: ='Refined Materials'!D2 -> Dried seaweed | C6: 5
A7: ='Refined Materials'!E2 -> Liquid egg | D7: 5
A8: ='Refined Materials'!F2 -> Wahed cucumber | E8: 1
A9: ='Refined Materials'!G2 -> Tuna fillet | F9: 2
A10: ='Refined Materials'!H2 -> Salmon fillet | G10: 4
A11: ='Refined Materials'!I2 -> Salmon roe sac | G11: 5
A12: ='Refined Materials'!J2 -> Flatfish fillet | H12: 10
A13: ='Refined Materials'!K2 -> Eel fillet | I13: 10
A14: ='Refined Materials'!L2 -> Peeled Shrimp | J14: 10
A16: PARTS
B17: ='Refined Materials'!B2 -> Raw rice | C17: ='Refined Materials'!C2 -> Flour | D17: ='Refined Materials'!D2 -> Dried seaweed | E17: ='Refined Materials'!E2 -> Liquid egg | F17: ='Refined Materials'!F2 -> Wahed cucumber | G17: ='Refined Materials'!G2 -> Tuna fillet | H17: ='Refined Materials'!H2 -> Salmon fillet | I17: ='Refined Materials'!I2 -> Salmon roe sac | ... L17: ='Refined Materials'!L2 -> Peeled Shrimp
A18: =Parts!B2 -> Cooked rice | B18: 5
A19: =Parts!C2 -> Fry Batter | C19: 2 | E19: 3
A20: =Parts!D2 -> Tempura Batter | C20: 4 | E20: 1
A21: =Parts!E2 -> Seasonned seaweed | D21: 2
A22: =Parts!F2 -> Tamagoyaki (Cooked egg) | E22: 2
A23: =Parts!G2 -> Thin cut cucumber | F23: 2
A24: =Parts!H2 -> Long cut cucumber | F24: 2
A25: =Parts!I2 -> Diced tuna | G25: 2
A26: =Parts!J2 -> Long cut tuna | G26: 2
A27: =Parts!K2 -> Tuna sashimi | G27: 2
A28: =Parts!L2 -> Diced salmon | H28: 2
A29: =Parts!M2 -> Long cut salmon | H29: 2
A30: =Parts!N2 -> Salmon sashimi | H30: 2
A31: =Parts!O2 -> Washed salmon roe | I31: 2
A32: =Parts!P2 -> Flatfish sashimi | J32: 2
A33: =Parts!Q2 -> Engawa (Flatfish fin) | J33: 3
A34: =Parts!R2 -> Cooked eel | K34: 2
A35: =Parts!S2 -> Butterfly Shrimp | L35: 2
A36: =Parts!T2 -> Long Shrimp | L36: 2
A38: PRODUCTS
B39: =Parts!B2 -> Cooked rice | C39: =Parts!C2 -> Fry Batter | D39: =Parts!D2 -> Tempura Batter | E39: =Parts!E2 -> Seasonned seaweed | F39: =Parts!F2 -> Tamagoyaki (Cooked egg) | G39: =Parts!G2 -> Thin cut cucumber | H39: =Parts!H2 -> Long cut cucumber | I39: =Parts!I2 -> Diced tuna | ... T39: =Parts!T2 -> Long Shrimp
A40: =Products!B2 -> Tamago(egg) sushi | B40: 10 | E40: 1 | F40: 8
A41: =Products!C2 -> Tuna nigiri | B41: 10 | K41: 8
A42: =Products!D2 -> Salmon nigiri | B42: 10 | N42: 8
A43: =Products!E2 -> Flatfish nigiri | B43: 10 | P43: 8
...

Sheet Charts
B26: Various uses of the raw material in the newly added Refined material. Tempura batter and tempura batter look similar to each other, but have slightly different formulations. Reflecting this, a combination of several sub-materials was also added in the Refined material.
V39: Here is a chart showing how Cost Per unit changes. Among products with high prices, products that require high proficiency decrease rapidly the more you make them.
I43: The chart is a combination of donburi types. Basically, the same amount of rice goes in, but each ingredient goes in a different amount. The more expensive the type, the smaller the amount of ingredients and the more profit you make.

Sheet Design Intention
A1: For raw materials, the base cost was set based on the price that would take to purchase them from market. Rice grain, Seaweed, Egg, and Cucumber are common and basic cheap ingredients. I would like to call them as 'General materials'. Tuna, Salmon, Flatfish, Eel, and Shrimp are 'Professional materials'. I'll explain later about these materials.
A2: The recipe costs for refined materials, parts, and products was set based on the time(or may refrase as efforts) and the skills to product each item.
A3: The refined materials from general materials are generally refined in a ratio of about 1 by 1 or 2, depending on how much are they used in final products. In the case of Professional materials are depends on the portion of fish. For example, Tuna and Salmon are relatively more expensive than other fish. However, since it has a large size, less amount is consumed to obtain the same amount of refined material. On the other hand, Shrimp, Eel and flatfish are not as expensive as Tuna and Salmon. However, the amount of fish itself to obtain a certain amount of fillets is more than Tuna and Salmon. It may represent that usually, Eel dishes are relatively expensive in most restaurant. And also, you can find something unique from this part that one material is devided into two refined materials like 'Salmon > Salmon fillet/Salmon roe sac' in this case. Salmon roe sac is more harder to get than fillet especailly if you want to get only one. However, it goes cheaper if you want to make a large amount of them. These kinds of subdivision of these higher-order materials will also appear in later sections.
A4: The process of transforming refined materials into parts has an important point in increasing the type rather than the ratio.(Not that mean the ratio is not important. It also make a difference value of materials.) The purpose of this is to make a choice whether to make high value-added materials that can be used only for limited purposes or low value-added materials that can be used for various purposes.
A5: The conversion of parts into the final products (dishes) was fairly set. Basically, the number of parts literally means the amount of parts that goes into one completed dish. In particular, 'seasoned seaweed' shows the difference. The amount of egg sushi and eel sushi is very small because it serves only to bind ingredients together in the form of a thin strip. The final dish was designed to be self-catering considering the skill level, the price of ingredients, and the amount of ingredients consumed. It may take the form of multiple sales by using high skill and low cost parts, or it may take a method of selling high value-added products by using low skills and a lot of expensive parts.
